BEGIN:VCALENDAR
VERSION:2.0
PRODID:-//eventon.com NONSGML v1.0//EN
CALSCALE:GREGORIAN
METHOD:PUBLISH
BEGIN:VEVENT
UID:69e4cd731e441
DTSTAMP:20260419T124123Z
DTSTART:20260224T230400Z
DTEND:20260224T235900Z
LOCATION:SLC-40\,  Cabo Cañaveral\,  Florida Cabo Cañaveral\,  FL\,  Estados Unidos
SUMMARY:Falcon 9 Block 5 • Starlink 6-110
DESCRIPTION:Starlink Group 6-110 es una misión de SpaceX destinada a lanz
 ar un nuevo lote de 29 satélites Starlink v2-mini\,  parte de la segunda g
 eneración de la constelación Starlink. Estos satélites están diseñados
  para mejorar la cobertura global de internet de alta velocidad y baja late
 ncia\,  especialmente en regiones remotas o con[..]\nhttps://controldemisio
 n.com/events/falcon-9-block-5-starlink-6-110/
URL:https://controldemision.com/events/falcon-9-block-5-starlink-6-110/
END:VEVENT
END:VCALENDAR