BEGIN:VCALENDAR
VERSION:2.0
PRODID:-//eventon.com NONSGML v1.0//EN
CALSCALE:GREGORIAN
METHOD:PUBLISH
BEGIN:VEVENT
UID:69e8bb7b0ccf8
DTSTAMP:20260422T121347Z
DTSTART:19700101
DTEND:19700102
LOCATION:SLC-41\,  Cabo Cañaveral\,  Florida
SUMMARY:Vulcan VC6L • Amazon Leo (LV-16)
DESCRIPTION:Amazon Leo\,  desarrollado por Kuiper Systems LLC (una filial d
 e Amazon)\,  es una megaconstelación de satélites en órbita terrestre ba
 ja diseñada para ofrecer acceso a internet de banda ancha en todo el mundo
 \,  especialmente en zonas con poca cobertura. Está previsto que la conste
 lación esté formada por 3.236 satélites\,  distribuidos[..]\nhttps://con
 troldemision.com/events/vulcan-vc6l-amazon-leo-lv-16/
URL:https://controldemision.com/events/vulcan-vc6l-amazon-leo-lv-16/
END:VEVENT
END:VCALENDAR