BEGIN:VCALENDAR
VERSION:2.0
PRODID:-//eventon.com NONSGML v1.0//EN
CALSCALE:GREGORIAN
METHOD:PUBLISH
BEGIN:VEVENT
UID:69ed8ee15eff6
DTSTAMP:20260426T040449Z
DTSTART:19700101
DTEND:19700102
LOCATION:LA-Y2\,  Centro Espacial Tanegashima\,  Japón Japón\,  〒891-3703 Kagoshima\,  Kumage District\,  Minamitane\,  Kukinaga\,  麻津
SUMMARY:H3-22S • Michibiki 7
DESCRIPTION:La empresa japonesa Mitsubishi Heavy Industries ha lanza a bord
 o de su cohete H3-22S el satélite Michibiki 7 a una órbita de transferenc
 ia geoestacionaria.\nhttps://controldemision.com/events/h3-22s-michibiki-7/
URL:https://controldemision.com/events/h3-22s-michibiki-7/
END:VEVENT
END:VCALENDAR