BEGIN:VCALENDAR
VERSION:2.0
PRODID:-//eventon.com NONSGML v1.0//EN
CALSCALE:GREGORIAN
METHOD:PUBLISH
BEGIN:VEVENT
UID:69e771760b3e2
DTSTAMP:20260421T124542Z
DTSTART:20251218T050300Z
DTEND:20251218T235900Z
LOCATION:Complejo de Lanzamiento 2 de Rocket Lab\,  Wallops\,  Virginia\,  Estados Unidos
SUMMARY:Electron/Curie • Don't Be Such A Square
DESCRIPTION:Rocket Lab lanza 4 satélites de demostración\,  incluido Disk
 Sat a órbita baja terrestre. DiskSat es un innovador diseño de satélite 
 desarrollado por The Aerospace Corporation con el apoyo de la NASA\,  desti
 nado a superar las limitaciones de los CubeSats tradicionales. A diferencia
  de los CubeSats\,  que son pequeños y de[..]\nhttps://controldemision.com
 /events/electron-curie-stp-s30/
URL:https://controldemision.com/events/electron-curie-stp-s30/
END:VEVENT
END:VCALENDAR