BEGIN:VCALENDAR
VERSION:2.0
PRODID:-//eventon.com NONSGML v1.0//EN
CALSCALE:GREGORIAN
METHOD:PUBLISH
BEGIN:VEVENT
UID:69e5fcc2ddc2f
DTSTAMP:20260420T101530Z
DTSTART:20250628T171300Z
DTEND:20250628T235900Z
LOCATION:SLC-4E\,  Vandenberg\,  California
SUMMARY:Falcon 9 Block 5 • Starlink 15-7
DESCRIPTION:SpaceX lanzó con éxito un lote de 26 satélites Starlink v2 m
 ini desde el Complejo de Lanzamiento Espacial 4E en Vandenberg\,  Californi
 a.\nhttps://controldemision.com/events/falcon-9-block-5-starlink-15-7/
URL:https://controldemision.com/events/falcon-9-block-5-starlink-15-7/
END:VEVENT
END:VCALENDAR