BEGIN:VCALENDAR
VERSION:2.0
PRODID:-//eventon.com NONSGML v1.0//EN
CALSCALE:GREGORIAN
METHOD:PUBLISH
BEGIN:VEVENT
UID:69e4e6e175705
DTSTAMP:20260419T142953Z
DTSTART:20250408T054700Z
DTEND:20250408T235900Z
LOCATION:Sitio 31/6\,  Cosmodromo de Baikonur\,  Kazajistán
SUMMARY:Soyuz 2.1a • Soyuz MS-27
DESCRIPTION:Roscosmos lanzó con éxito una nueva misión de rotación de t
 ripulación rumbo a la Estación Espacial Internacional.\nhttps://controlde
 mision.com/events/soyuz-2-1a-soyuz-ms-27/
URL:https://controldemision.com/events/soyuz-2-1a-soyuz-ms-27/
END:VEVENT
END:VCALENDAR