BEGIN:VCALENDAR
VERSION:2.0
PRODID:-//eventon.com NONSGML v1.0//EN
CALSCALE:GREGORIAN
METHOD:PUBLISH
BEGIN:VEVENT
UID:69e4ccd453788
DTSTAMP:20260419T123844Z
DTSTART:20260419T143400Z
DTEND:20260419T235900Z
LOCATION:SLC-4E\,  Vandenberg\,  California
SUMMARY:Falcon 9 Block 5 • Starlink 17-22
DESCRIPTION:Starlink 17-22 es una misión de SpaceX destinada a lanzar un 
 nuevo lote de 25 satélites Starlink v2-mini\,  parte de la segunda generac
 ión de la constelación Starlink. Estos satélites están diseñados para 
 mejorar la cobertura global de internet de alta velocidad y baja latencia\,
   especialmente en regiones remotas o con infraestructura[..]\nhttps://cont
 roldemision.com/events/falcon-9-block-5-starlink-17-22/
URL:https://controldemision.com/events/falcon-9-block-5-starlink-17-22/
END:VEVENT
END:VCALENDAR